BEGIN:VCALENDAR
VERSION:2.0
PRODID:-//Museo de Ávila - ECPv6.15.17.1//NONSGML v1.0//EN
CALSCALE:GREGORIAN
METHOD:PUBLISH
X-ORIGINAL-URL:https://museodeavila.com
X-WR-CALDESC:Eventos para Museo de Ávila
REFRESH-INTERVAL;VALUE=DURATION:PT1H
X-Robots-Tag:noindex
X-PUBLISHED-TTL:PT1H
BEGIN:VTIMEZONE
TZID:Europe/Madrid
BEGIN:DAYLIGHT
TZOFFSETFROM:+0100
TZOFFSETTO:+0200
TZNAME:CEST
DTSTART:20230326T010000
END:DAYLIGHT
BEGIN:STANDARD
TZOFFSETFROM:+0200
TZOFFSETTO:+0100
TZNAME:CET
DTSTART:20231029T010000
END:STANDARD
BEGIN:DAYLIGHT
TZOFFSETFROM:+0100
TZOFFSETTO:+0200
TZNAME:CEST
DTSTART:20240331T010000
END:DAYLIGHT
BEGIN:STANDARD
TZOFFSETFROM:+0200
TZOFFSETTO:+0100
TZNAME:CET
DTSTART:20241027T010000
END:STANDARD
BEGIN:DAYLIGHT
TZOFFSETFROM:+0100
TZOFFSETTO:+0200
TZNAME:CEST
DTSTART:20250330T010000
END:DAYLIGHT
BEGIN:STANDARD
TZOFFSETFROM:+0200
TZOFFSETTO:+0100
TZNAME:CET
DTSTART:20251026T010000
END:STANDARD
END:VTIMEZONE
BEGIN:VEVENT
DTSTART;VALUE=DATE:20240514
DTEND;VALUE=DATE:20240515
DTSTAMP:20260420T234221
CREATED:20240513T181256Z
LAST-MODIFIED:20240513T180953Z
UID:1274-1715644800-1715731199@museodeavila.com
SUMMARY:HOMENAJE A DONANTES Y DEPOSITANTES DE PIEZAS AL MUSEO DE ÁVILA
DESCRIPTION:Desde 1911\, año de inauguración del museo\, numerosas personas e instituciones han donado piezas para formar parte de las colecciones del Museo de Ávila. Con motivo del Día Internacional de los Museos\, todos los años actualizamos este vídeo como reconocimiento a su altruismo. \n 
URL:https://museodeavila.com/event/homenaje-a-donantes-y-depositantes-de-piezas-al-museo-de-avila/
CATEGORIES:Proyecciones
ATTACH;FMTTYPE=image/jpeg:https://museodeavila.com/wp-content/uploads/2024/05/CARATULA-VIDEO-DONANTES.jpg
END:VEVENT
END:VCALENDAR